Package: DNAfusion Version: 1.13.0 Command: /home/biocbuild/bbs-3.23-bioc/R/bin/R CMD INSTALL DNAfusion StartedAt: 2025-11-19 15:48:13 -0500 (Wed, 19 Nov 2025) EndedAt: 2025-11-19 15:48:46 -0500 (Wed, 19 Nov 2025) EllapsedTime: 32.7 seconds RetCode: 0 Status: OK