Package: DNAfusion Version: 1.13.0 Command: /home/biocbuild/bbs-3.23-bioc/R/bin/R CMD build --keep-empty-dirs --no-resave-data DNAfusion StartedAt: 2025-11-19 17:24:50 -0500 (Wed, 19 Nov 2025) EndedAt: 2025-11-19 17:27:23 -0500 (Wed, 19 Nov 2025) EllapsedTime: 153.1 seconds RetCode: 0 Status: OK PackageFile: DNAfusion_1.13.0.tar.gz PackageFileSize: 6.298 MiB