Package: DNABarcodes Version: 1.41.0 Command: /home/biocbuild/bbs-3.23-bioc/R/bin/R CMD INSTALL DNABarcodes StartedAt: 2025-11-13 15:05:01 -0500 (Thu, 13 Nov 2025) EndedAt: 2025-11-13 15:06:17 -0500 (Thu, 13 Nov 2025) EllapsedTime: 75.5 seconds RetCode: 0 Status: OK