Package: DNABarcodeCompatibility Version: 1.27.0 Command: /home/biocbuild/bbs-3.23-bioc/R/bin/R CMD INSTALL DNABarcodeCompatibility StartedAt: 2025-11-19 15:12:32 -0500 (Wed, 19 Nov 2025) EndedAt: 2025-11-19 15:13:04 -0500 (Wed, 19 Nov 2025) EllapsedTime: 32.3 seconds RetCode: 0 Status: OK