Package: DNABarcodeCompatibility Version: 1.27.0 Command: /home/biocbuild/bbs-3.23-bioc/R/bin/R CMD build --keep-empty-dirs --no-resave-data DNABarcodeCompatibility StartedAt: 2025-11-19 17:24:33 -0500 (Wed, 19 Nov 2025) EndedAt: 2025-11-19 17:25:41 -0500 (Wed, 19 Nov 2025) EllapsedTime: 68.0 seconds RetCode: 0 Status: OK PackageFile: DNABarcodeCompatibility_1.27.0.tar.gz PackageFileSize: 260.1 KiB