Package: CytoPipelineGUI Version: 1.9.0 Command: /home/biocbuild/bbs-3.23-bioc/R/bin/R CMD INSTALL CytoPipelineGUI StartedAt: 2025-11-07 15:35:49 -0500 (Fri, 07 Nov 2025) EndedAt: 2025-11-07 15:36:02 -0500 (Fri, 07 Nov 2025) EllapsedTime: 13.4 seconds RetCode: 0 Status: OK