Package: CytoPipelineGUI Version: 1.9.0 Maintainer: Philippe Hauchamps MaintainerEmail: philippe.hauchamps at uclouvain.be git_url: https://git.bioconductor.org/packages/CytoPipelineGUI git_branch: devel git_last_commit: ae44853 git_last_commit_date: 2025-10-29 11:25:00 -0500 (Wed, 29 Oct 2025)