Package: CytoPipeline Version: 1.11.0 Maintainer: Philippe Hauchamps MaintainerEmail: philippe.hauchamps at uclouvain.be git_url: https://git.bioconductor.org/packages/CytoPipeline git_branch: devel git_last_commit: 54ed268 git_last_commit_date: 2025-10-29 11:20:49 -0500 (Wed, 29 Oct 2025)