Package: CytoML Version: 2.23.0 Command: /home/biocbuild/bbs-3.23-bioc/R/bin/R CMD build --keep-empty-dirs --no-resave-data CytoML StartedAt: 2025-11-07 17:04:40 -0500 (Fri, 07 Nov 2025) EndedAt: 2025-11-07 17:06:13 -0500 (Fri, 07 Nov 2025) EllapsedTime: 92.1 seconds RetCode: 0 Status: OK PackageFile: CytoML_2.23.0.tar.gz PackageFileSize: 8.051 MiB