Package: CuratedAtlasQueryR Version: 1.9.0 Command: /home/biocbuild/bbs-3.23-bioc/R/bin/R CMD INSTALL CuratedAtlasQueryR StartedAt: 2025-11-07 15:18:55 -0500 (Fri, 07 Nov 2025) EndedAt: 2025-11-07 15:19:32 -0500 (Fri, 07 Nov 2025) EllapsedTime: 37.1 seconds RetCode: 0 Status: OK