Package: CuratedAtlasQueryR Version: 1.9.0 Maintainer: Stefano Mangiola MaintainerEmail: mangiolastefano at gmail.com git_url: https://git.bioconductor.org/packages/CuratedAtlasQueryR git_branch: devel git_last_commit: 0ecd53b git_last_commit_date: 2025-10-29 11:24:15 -0500 (Wed, 29 Oct 2025)