Package: CoreGx Version: 2.15.0 Command: /home/biocbuild/bbs-3.23-bioc/R/bin/R CMD INSTALL CoreGx StartedAt: 2025-11-10 15:28:10 -0500 (Mon, 10 Nov 2025) EndedAt: 2025-11-10 15:28:48 -0500 (Mon, 10 Nov 2025) EllapsedTime: 37.8 seconds RetCode: 0 Status: OK