Package: ComplexHeatmap Version: 2.27.0 Command: /home/biocbuild/bbs-3.23-bioc/R/bin/R CMD INSTALL ComplexHeatmap StartedAt: 2025-11-19 15:17:42 -0500 (Wed, 19 Nov 2025) EndedAt: 2025-11-19 15:18:03 -0500 (Wed, 19 Nov 2025) EllapsedTime: 20.6 seconds RetCode: 0 Status: OK