Package: ComplexHeatmap Version: 2.27.0 Command: /home/biocbuild/bbs-3.23-bioc/R/bin/R CMD build --keep-empty-dirs --no-resave-data ComplexHeatmap StartedAt: 2025-11-19 17:00:27 -0500 (Wed, 19 Nov 2025) EndedAt: 2025-11-19 17:00:59 -0500 (Wed, 19 Nov 2025) EllapsedTime: 32.0 seconds RetCode: 0 Status: OK PackageFile: ComplexHeatmap_2.27.0.tar.gz PackageFileSize: 1.392 MiB