Package: ClusterSignificance Version: 1.39.0 Command: /home/biocbuild/bbs-3.23-bioc/R/bin/R CMD INSTALL ClusterSignificance StartedAt: 2025-11-07 15:05:57 -0500 (Fri, 07 Nov 2025) EndedAt: 2025-11-07 15:06:09 -0500 (Fri, 07 Nov 2025) EllapsedTime: 11.9 seconds RetCode: 0 Status: OK