Package: ClusterFoldSimilarity Version: 1.7.0 Command: /home/biocbuild/bbs-3.23-bioc/R/bin/R CMD INSTALL ClusterFoldSimilarity StartedAt: 2025-11-21 15:23:36 -0500 (Fri, 21 Nov 2025) EndedAt: 2025-11-21 15:24:12 -0500 (Fri, 21 Nov 2025) EllapsedTime: 36.2 seconds RetCode: 0 Status: OK