Package: ClusterFoldSimilarity Version: 1.7.0 Command: /home/biocbuild/bbs-3.23-bioc/R/bin/R CMD build --keep-empty-dirs --no-resave-data ClusterFoldSimilarity StartedAt: 2025-11-21 16:51:43 -0500 (Fri, 21 Nov 2025) EndedAt: 2025-11-21 16:59:56 -0500 (Fri, 21 Nov 2025) EllapsedTime: 492.4 seconds RetCode: 0 Status: OK PackageFile: ClusterFoldSimilarity_1.7.0.tar.gz PackageFileSize: 1.572 MiB