Package: CleanUpRNAseq Version: 1.5.0 Command: /home/biocbuild/bbs-3.23-bioc/R/bin/R CMD build --keep-empty-dirs --no-resave-data CleanUpRNAseq StartedAt: 2025-11-14 16:49:45 -0500 (Fri, 14 Nov 2025) EndedAt: 2025-11-14 16:51:09 -0500 (Fri, 14 Nov 2025) EllapsedTime: 84.1 seconds RetCode: 0 Status: OK PackageFile: CleanUpRNAseq_1.5.0.tar.gz PackageFileSize: 2.409 MiB