Package: CleanUpRNAseq Version: 1.5.0 Maintainer: Haibo Liu MaintainerEmail: haibo.liu at umassmed.edu git_url: https://git.bioconductor.org/packages/CleanUpRNAseq git_branch: devel git_last_commit: 4f653f6 git_last_commit_date: 2025-10-29 11:31:19 -0500 (Wed, 29 Oct 2025)