Package: ClassifyR Version: 3.15.0 Maintainer: Dario Strbenac MaintainerEmail: dario.strbenac at sydney.edu.au git_url: https://git.bioconductor.org/packages/ClassifyR git_branch: devel git_last_commit: 766b130 git_last_commit_date: 2025-10-29 10:20:42 -0500 (Wed, 29 Oct 2025)