Package: ChromHeatMap Version: 1.65.0 Maintainer: Tim F. Rayner MaintainerEmail: tfrayner at gmail.com git_url: https://git.bioconductor.org/packages/ChromHeatMap git_branch: devel git_last_commit: d47e520 git_last_commit_date: 2025-10-29 10:03:49 -0500 (Wed, 29 Oct 2025)