Back to Build/check report for BioC 3.23:   simplified   long
AB[C]DEFGHIJKLMNOPQRSTUVWXYZ

This page was generated on 2025-11-08 11:32 -0500 (Sat, 08 Nov 2025).

HostnameOSArch (*)R versionInstalled pkgs
nebbiolo1Linux (Ubuntu 24.04.3 LTS)x86_64R Under development (unstable) (2025-10-20 r88955) -- "Unsuffered Consequences" 4821
Click on any hostname to see more info about the system (e.g. compilers)      (*) as reported by 'uname -p', except on Windows and Mac OS X

All results for package ChemmineR


To the developers/maintainers of the ChemmineR package:
- Allow up to 24 hours (and sometimes 48 hours) for your latest push to git@git.bioconductor.org:packages/ChemmineR.git to reflect on this report. See Troubleshooting Build Report for more information.
- Use the following Renviron settings to reproduce errors and warnings.
- If 'R CMD check' started to fail recently on the Linux builder(s) over a missing dependency, add the missing dependency to 'Suggests:' in your DESCRIPTION file. See Renviron.bioc for more information.

raw results

Package 330/2323HostnameOS / ArchINSTALLBUILDCHECKBUILD BIN
ChemmineR 3.63.0  (landing page)
Thomas Girke
Snapshot Date: 2025-11-07 13:40 -0500 (Fri, 07 Nov 2025)
git_url: https://git.bioconductor.org/packages/ChemmineR
git_branch: devel
git_last_commit: f944c2b
git_last_commit_date: 2025-10-29 10:01:35 -0500 (Wed, 29 Oct 2025)
nebbiolo1Linux (Ubuntu 24.04.3 LTS) / x86_64  OK    OK    WARNINGS  UNNEEDED, same version is already published



Results for Bioconductor software packages that depend directly on package ChemmineR

QUICK STATSOS / ArchINSTALLBUILDCHECKBUILD BIN
nebbiolo1Linux (Ubuntu 24.04.3 LTS) / x86_64
007
007
0115
Package 1/7HostnameOS / ArchINSTALLBUILDCHECKBUILD BIN
bioassayR 1.49.0  (landing page)
Thomas Girke
git_last_commit: dff449a
git_last_commit_date: 2025-10-29 10:16:39 -0500
nebbiolo1Linux (Ubuntu 24.04.3 LTS) / x86_64  OK    OK    OK  UNNEEDED, same version is already published
Package 2/7HostnameOS / ArchINSTALLBUILDCHECKBUILD BIN
CompoundDb 1.15.0  (landing page)
Johannes Rainer
git_last_commit: c48af8f
git_last_commit_date: 2025-10-29 11:14:42 -0500
nebbiolo1Linux (Ubuntu 24.04.3 LTS) / x86_64  OK    OK    OK  UNNEEDED, same version is already published
Package 3/7HostnameOS / ArchINSTALLBUILDCHECKBUILD BIN
customCMPdb 1.21.0  (landing page)
Yuzhu Duan
git_last_commit: 5a0a0a6
git_last_commit_date: 2025-10-29 11:03:08 -0500
nebbiolo1Linux (Ubuntu 24.04.3 LTS) / x86_64  OK    OK    ERROR  
Package 4/7HostnameOS / ArchINSTALLBUILDCHECKBUILD BIN
eiR 1.51.0  (landing page)
Thomas Girke
git_last_commit: f6360f0
git_last_commit_date: 2025-10-29 10:14:17 -0500
nebbiolo1Linux (Ubuntu 24.04.3 LTS) / x86_64  OK    OK    OK  UNNEEDED, same version is already published
Package 5/7HostnameOS / ArchINSTALLBUILDCHECKBUILD BIN
fmcsR 1.53.0  (landing page)
Thomas Girke
git_last_commit: 6151e9b
git_last_commit_date: 2025-10-29 10:11:54 -0500
nebbiolo1Linux (Ubuntu 24.04.3 LTS) / x86_64  OK    OK    WARNINGS  UNNEEDED, same version is already published
Package 6/7HostnameOS / ArchINSTALLBUILDCHECKBUILD BIN
MetID 1.29.0  (landing page)
Zhenzhi Li
git_last_commit: 2d4e012
git_last_commit_date: 2025-10-29 10:46:30 -0500
nebbiolo1Linux (Ubuntu 24.04.3 LTS) / x86_64  OK    OK    OK  UNNEEDED, same version is already published
Package 7/7HostnameOS / ArchINSTALLBUILDCHECKBUILD BIN
RMassBank 3.21.0  (landing page)
RMassBank at Eawag
git_last_commit: c946a1f
git_last_commit_date: 2025-10-29 10:11:40 -0500
nebbiolo1Linux (Ubuntu 24.04.3 LTS) / x86_64  OK    OK    OK  UNNEEDED, same version is already published