Package: ChIPsim Version: 1.65.0 Command: /home/biocbuild/bbs-3.23-bioc/R/bin/R CMD build --keep-empty-dirs --no-resave-data ChIPsim StartedAt: 2025-11-13 16:47:15 -0500 (Thu, 13 Nov 2025) EndedAt: 2025-11-13 16:48:21 -0500 (Thu, 13 Nov 2025) EllapsedTime: 66.1 seconds RetCode: 0 Status: OK PackageFile: ChIPsim_1.65.0.tar.gz PackageFileSize: 647.3 KiB