Package: ChIPseqR Version: 1.65.0 Command: /home/biocbuild/bbs-3.23-bioc/R/bin/R CMD INSTALL ChIPseqR StartedAt: 2025-11-21 15:53:59 -0500 (Fri, 21 Nov 2025) EndedAt: 2025-11-21 15:54:33 -0500 (Fri, 21 Nov 2025) EllapsedTime: 34.7 seconds RetCode: 0 Status: OK