Package: ChIPseqR Version: 1.65.0 Command: /home/biocbuild/bbs-3.23-bioc/R/bin/R CMD build --keep-empty-dirs --no-resave-data ChIPseqR StartedAt: 2025-11-21 16:48:07 -0500 (Fri, 21 Nov 2025) EndedAt: 2025-11-21 16:49:20 -0500 (Fri, 21 Nov 2025) EllapsedTime: 73.1 seconds RetCode: 0 Status: OK PackageFile: ChIPseqR_1.65.0.tar.gz PackageFileSize: 729.5 KiB