Package: ChIPComp Version: 1.41.0 Command: /home/biocbuild/bbs-3.23-bioc/R/bin/R CMD INSTALL ChIPComp StartedAt: 2025-11-07 15:36:23 -0500 (Fri, 07 Nov 2025) EndedAt: 2025-11-07 15:36:54 -0500 (Fri, 07 Nov 2025) EllapsedTime: 31.0 seconds RetCode: 0 Status: OK