Package: ChIPComp Version: 1.41.0 Command: /home/biocbuild/bbs-3.23-bioc/R/bin/R CMD build --keep-empty-dirs --no-resave-data ChIPComp StartedAt: 2025-11-07 16:45:34 -0500 (Fri, 07 Nov 2025) EndedAt: 2025-11-07 16:46:27 -0500 (Fri, 07 Nov 2025) EllapsedTime: 53.1 seconds RetCode: 0 Status: OK PackageFile: ChIPComp_1.41.0.tar.gz PackageFileSize: 597 KiB