Package: ChIPComp Version: 1.41.0 Maintainer: Li Chen MaintainerEmail: li.chen at emory.edu git_url: https://git.bioconductor.org/packages/ChIPComp git_branch: devel git_last_commit: 6f90f75 git_last_commit_date: 2025-10-29 10:27:22 -0500 (Wed, 29 Oct 2025)