Package: CellTrails Version: 1.29.0 Command: /home/biocbuild/bbs-3.23-bioc/R/bin/R CMD INSTALL CellTrails StartedAt: 2025-11-07 15:19:02 -0500 (Fri, 07 Nov 2025) EndedAt: 2025-11-07 15:19:31 -0500 (Fri, 07 Nov 2025) EllapsedTime: 28.8 seconds RetCode: 0 Status: OK