Package: CellTrails Version: 1.29.0 Command: /home/biocbuild/bbs-3.23-bioc/R/bin/R CMD build --keep-empty-dirs --no-resave-data CellTrails StartedAt: 2025-11-07 16:41:27 -0500 (Fri, 07 Nov 2025) EndedAt: 2025-11-07 16:42:07 -0500 (Fri, 07 Nov 2025) EllapsedTime: 40.0 seconds RetCode: 0 Status: OK PackageFile: CellTrails_1.29.0.tar.gz PackageFileSize: 2.628 MiB