Package: CellMixS Version: 1.27.0 Command: /home/biocbuild/bbs-3.23-bioc/R/bin/R CMD INSTALL CellMixS StartedAt: 2025-11-14 15:56:21 -0500 (Fri, 14 Nov 2025) EndedAt: 2025-11-14 15:56:49 -0500 (Fri, 14 Nov 2025) EllapsedTime: 27.8 seconds RetCode: 0 Status: OK