Package: CellMixS Version: 1.27.0 Command: /home/biocbuild/bbs-3.23-bioc/R/bin/R CMD build --keep-empty-dirs --no-resave-data CellMixS StartedAt: 2025-11-14 16:42:24 -0500 (Fri, 14 Nov 2025) EndedAt: 2025-11-14 16:45:09 -0500 (Fri, 14 Nov 2025) EllapsedTime: 165.1 seconds RetCode: 0 Status: OK PackageFile: CellMixS_1.27.0.tar.gz PackageFileSize: 3.909 MiB