Package: CellMixS Version: 1.27.0 Maintainer: Almut Lütge MaintainerEmail: almut.lue at gmail.com git_url: https://git.bioconductor.org/packages/CellMixS git_branch: devel git_last_commit: 4692bc3 git_last_commit_date: 2025-10-29 10:51:12 -0500 (Wed, 29 Oct 2025)