Package: CSSQ Version: 1.23.0 Maintainer: Fan Lab at Georgia Institute of Technology MaintainerEmail: yuhong.fan at biology.gatech.edu git_url: https://git.bioconductor.org/packages/CSSQ git_branch: devel git_last_commit: b5e08ec git_last_commit_date: 2025-10-29 10:56:02 -0500 (Wed, 29 Oct 2025)