Package: CSOA Version: 1.1.0 Maintainer: Andrei-Florian Stoica MaintainerEmail: andreistoica at foxmail.com git_url: https://git.bioconductor.org/packages/CSOA git_branch: devel git_last_commit: c51650a git_last_commit_date: 2025-10-29 11:37:44 -0500 (Wed, 29 Oct 2025)