Package: CSAR Version: 1.63.0 Maintainer: Jose M Muino MaintainerEmail: jose.muino at live.com git_url: https://git.bioconductor.org/packages/CSAR git_branch: devel git_last_commit: 3494fdf git_last_commit_date: 2025-10-29 10:04:05 -0500 (Wed, 29 Oct 2025)