Package: CPSM Version: 1.3.0 Command: /home/biocbuild/bbs-3.23-bioc/R/bin/R CMD INSTALL CPSM StartedAt: 2025-11-07 15:34:59 -0500 (Fri, 07 Nov 2025) EndedAt: 2025-11-07 15:35:33 -0500 (Fri, 07 Nov 2025) EllapsedTime: 34.2 seconds RetCode: 0 Status: OK