Package: CPSM Version: 1.3.0 Command: /home/biocbuild/bbs-3.23-bioc/R/bin/R CMD build --keep-empty-dirs --no-resave-data CPSM StartedAt: 2025-11-07 16:57:52 -0500 (Fri, 07 Nov 2025) EndedAt: 2025-11-07 17:00:26 -0500 (Fri, 07 Nov 2025) EllapsedTime: 154.1 seconds RetCode: 0 Status: OK PackageFile: CPSM_1.3.0.tar.gz PackageFileSize: 4.359 MiB