Package: CPSM Version: 1.3.0 Maintainer: Harpreet Kaur MaintainerEmail: hks04180 at gmail.com git_url: https://git.bioconductor.org/packages/CPSM git_branch: devel git_last_commit: 12c6f22 git_last_commit_date: 2025-10-29 11:34:56 -0500 (Wed, 29 Oct 2025)