Package: COSNet Version: 1.45.0 Command: /home/biocbuild/bbs-3.23-bioc/R/bin/R CMD INSTALL COSNet StartedAt: 2025-11-07 15:07:35 -0500 (Fri, 07 Nov 2025) EndedAt: 2025-11-07 15:07:58 -0500 (Fri, 07 Nov 2025) EllapsedTime: 22.3 seconds RetCode: 0 Status: OK