Package: COSNet Version: 1.45.0 Command: /home/biocbuild/bbs-3.23-bioc/R/bin/R CMD build --keep-empty-dirs --no-resave-data COSNet StartedAt: 2025-11-07 16:57:19 -0500 (Fri, 07 Nov 2025) EndedAt: 2025-11-07 17:01:49 -0500 (Fri, 07 Nov 2025) EllapsedTime: 270.3 seconds RetCode: 0 Status: OK PackageFile: COSNet_1.45.0.tar.gz PackageFileSize: 520.1 KiB