Package: COMPASS Version: 1.49.0 Command: /home/biocbuild/bbs-3.23-bioc/R/bin/R CMD INSTALL COMPASS StartedAt: 2025-11-14 15:09:41 -0500 (Fri, 14 Nov 2025) EndedAt: 2025-11-14 15:10:33 -0500 (Fri, 14 Nov 2025) EllapsedTime: 52.0 seconds RetCode: 0 Status: OK