Package: COMPASS Version: 1.49.0 Command: /home/biocbuild/bbs-3.23-bioc/R/bin/R CMD build --keep-empty-dirs --no-resave-data COMPASS StartedAt: 2025-11-14 16:56:15 -0500 (Fri, 14 Nov 2025) EndedAt: 2025-11-14 17:01:11 -0500 (Fri, 14 Nov 2025) EllapsedTime: 296.2 seconds RetCode: 0 Status: OK PackageFile: COMPASS_1.49.0.tar.gz PackageFileSize: 1.259 MiB