Package: CNORode Version: 1.53.0 Command: /home/biocbuild/bbs-3.23-bioc/R/bin/R CMD build --keep-empty-dirs --no-resave-data CNORode StartedAt: 2025-11-20 16:53:21 -0500 (Thu, 20 Nov 2025) EndedAt: 2025-11-20 16:53:51 -0500 (Thu, 20 Nov 2025) EllapsedTime: 30.0 seconds RetCode: 0 Status: OK PackageFile: CNORode_1.53.0.tar.gz PackageFileSize: 485.2 KiB