Package: CCPlotR Version: 1.9.0 Command: /home/biocbuild/bbs-3.23-bioc/R/bin/R CMD build --keep-empty-dirs --no-resave-data CCPlotR StartedAt: 2025-11-07 16:38:07 -0500 (Fri, 07 Nov 2025) EndedAt: 2025-11-07 16:38:44 -0500 (Fri, 07 Nov 2025) EllapsedTime: 37.0 seconds RetCode: 0 Status: OK PackageFile: CCPlotR_1.9.0.tar.gz PackageFileSize: 4.689 MiB