Package: CCPlotR Version: 1.9.0 Maintainer: Sarah Ennis MaintainerEmail: ennissarah94 at gmail.com git_url: https://git.bioconductor.org/packages/CCPlotR git_branch: devel git_last_commit: 18aee23 git_last_commit_date: 2025-10-29 11:25:49 -0500 (Wed, 29 Oct 2025)