Package: CCPROMISE Version: 1.37.0 Command: /home/biocbuild/bbs-3.23-bioc/R/bin/R CMD INSTALL CCPROMISE StartedAt: 2025-11-09 15:58:10 -0500 (Sun, 09 Nov 2025) EndedAt: 2025-11-09 15:58:25 -0500 (Sun, 09 Nov 2025) EllapsedTime: 14.4 seconds RetCode: 0 Status: OK