Package: CCPROMISE Version: 1.37.0 Command: /home/biocbuild/bbs-3.23-bioc/R/bin/R CMD build --keep-empty-dirs --no-resave-data CCPROMISE StartedAt: 2025-11-09 16:37:53 -0500 (Sun, 09 Nov 2025) EndedAt: 2025-11-09 16:38:32 -0500 (Sun, 09 Nov 2025) EllapsedTime: 39.0 seconds RetCode: 0 Status: OK PackageFile: CCPROMISE_1.37.0.tar.gz PackageFileSize: 1.03 MiB