Package: CCPROMISE Version: 1.37.0 Maintainer: Xueyuan Cao MaintainerEmail: xueyuan.cao at stjude.org git_url: https://git.bioconductor.org/packages/CCPROMISE git_branch: devel git_last_commit: e350525 git_last_commit_date: 2025-10-29 10:35:30 -0500 (Wed, 29 Oct 2025)