Package: BumpyMatrix Version: 1.19.0 Command: /home/biocbuild/bbs-3.23-bioc/R/bin/R CMD INSTALL BumpyMatrix StartedAt: 2025-11-09 15:14:01 -0500 (Sun, 09 Nov 2025) EndedAt: 2025-11-09 15:14:14 -0500 (Sun, 09 Nov 2025) EllapsedTime: 13.9 seconds RetCode: 0 Status: OK